BEGIN:VCALENDAR
VERSION:2.0
PRODID:-//VeloEplaisir - ECPv6.15.20//NONSGML v1.0//EN
CALSCALE:GREGORIAN
METHOD:PUBLISH
X-WR-CALNAME:VeloEplaisir
X-ORIGINAL-URL:https://veloeplaisir.ch
X-WR-CALDESC:Évènements pour VeloEplaisir
REFRESH-INTERVAL;VALUE=DURATION:PT1H
X-Robots-Tag:noindex
X-PUBLISHED-TTL:PT1H
BEGIN:VTIMEZONE
TZID:Europe/Zurich
BEGIN:DAYLIGHT
TZOFFSETFROM:+0100
TZOFFSETTO:+0200
TZNAME:CEST
DTSTART:20180325T010000
END:DAYLIGHT
BEGIN:STANDARD
TZOFFSETFROM:+0200
TZOFFSETTO:+0100
TZNAME:CET
DTSTART:20181028T010000
END:STANDARD
BEGIN:DAYLIGHT
TZOFFSETFROM:+0100
TZOFFSETTO:+0200
TZNAME:CEST
DTSTART:20190331T010000
END:DAYLIGHT
BEGIN:STANDARD
TZOFFSETFROM:+0200
TZOFFSETTO:+0100
TZNAME:CET
DTSTART:20191027T010000
END:STANDARD
BEGIN:DAYLIGHT
TZOFFSETFROM:+0100
TZOFFSETTO:+0200
TZNAME:CEST
DTSTART:20200329T010000
END:DAYLIGHT
BEGIN:STANDARD
TZOFFSETFROM:+0200
TZOFFSETTO:+0100
TZNAME:CET
DTSTART:20201025T010000
END:STANDARD
END:VTIMEZONE
BEGIN:VEVENT
DTSTART;TZID=Europe/Zurich:20190608T140000
DTEND;TZID=Europe/Zurich:20190608T170000
DTSTAMP:20260421T220304
CREATED:20180312T151925Z
LAST-MODIFIED:20190410T113749Z
UID:1968-1560002400-1560013200@veloeplaisir.ch
SUMMARY:Balade dans le Gros-de-Vaud
DESCRIPTION:Balade dans le Gros-de-Vaud\n\nParcours\nLe tracé de cette jolie balade\, d’un niveau facile avec 2-3 tous petits passages plus exigeants\, vous emmènera d’une forêts à l’autre par de petites routes et sentiers. Vous longerez Le Talent et passerez près de plusieurs étangs de la région. \nPoints forts de cette sortie: \n– Accessible\n– Revêtements très variés\n– Nombreuses routes forestières\n– Rivières et étangs \nInformations pratiques\nDurée: 2h30-3h \nNiveau technique: 1-2/5. Niveau physique 1-2/5 \nPrix normal: 75.- comprenant vtt électrique\, casque (au besoin) et accompagnement \nJe m’inscris!\nÉquipement\n\nVeste imperméable et coupe-vent\nPull chaud\nBas de cycliste ou pantalon confortable\nChaussures de sport\nPetits gants\nLunettes de soleil et crème solaire\nPetit sac à dos avec petit encas et boisson \nCet événement vous intéresse… ajoutez-le dans votre agenda!\n(clic droit et ouvrir un nouvel onglet)
URL:https://veloeplaisir.ch/event/balade-dans-le-gros-de-vaud-2-2-2/
LOCATION:Echallens\, Parc du Pont\, Ch. du Pont\, 1040\, Echallens
CATEGORIES:Plaisir de la nature
ATTACH;FMTTYPE=image/jpeg:https://veloeplaisir.ch/wp-content/uploads/2018/03/totem.jpg
ORGANIZER;CN="Alexandre Perrin":MAILTO:info(at)veloeplaisir.ch
END:VEVENT
END:VCALENDAR