BEGIN:VCALENDAR
VERSION:2.0
PRODID:-//VeloEplaisir - ECPv6.15.20//NONSGML v1.0//EN
CALSCALE:GREGORIAN
METHOD:PUBLISH
X-ORIGINAL-URL:https://veloeplaisir.ch
X-WR-CALDESC:Évènements pour VeloEplaisir
REFRESH-INTERVAL;VALUE=DURATION:PT1H
X-Robots-Tag:noindex
X-PUBLISHED-TTL:PT1H
BEGIN:VTIMEZONE
TZID:Europe/Zurich
BEGIN:DAYLIGHT
TZOFFSETFROM:+0100
TZOFFSETTO:+0200
TZNAME:CEST
DTSTART:20180325T010000
END:DAYLIGHT
BEGIN:STANDARD
TZOFFSETFROM:+0200
TZOFFSETTO:+0100
TZNAME:CET
DTSTART:20181028T010000
END:STANDARD
BEGIN:DAYLIGHT
TZOFFSETFROM:+0100
TZOFFSETTO:+0200
TZNAME:CEST
DTSTART:20190331T010000
END:DAYLIGHT
BEGIN:STANDARD
TZOFFSETFROM:+0200
TZOFFSETTO:+0100
TZNAME:CET
DTSTART:20191027T010000
END:STANDARD
BEGIN:DAYLIGHT
TZOFFSETFROM:+0100
TZOFFSETTO:+0200
TZNAME:CEST
DTSTART:20200329T010000
END:DAYLIGHT
BEGIN:STANDARD
TZOFFSETFROM:+0200
TZOFFSETTO:+0100
TZNAME:CET
DTSTART:20201025T010000
END:STANDARD
END:VTIMEZONE
BEGIN:VEVENT
DTSTART;TZID=Europe/Zurich:20190709T100000
DTEND;TZID=Europe/Zurich:20190709T150000
DTSTAMP:20260421T202707
CREATED:20180312T151925Z
LAST-MODIFIED:20190618T120213Z
UID:2007-1562666400-1562684400@veloeplaisir.ch
SUMMARY:Balade dans le Chablais
DESCRIPTION:Balade dans le Chablais\n\nParcours\nLe tracé de cette magnifique balade\, d’un niveau facile à moyen vous invite à prendre un tout petit peu de hauteur et à découvrir les collines de la plaine du Rhône entre Aigle et St-Maurice. Au programme\, vignes\, champs cultivés et bord du Rhône…magique! \nPique-nique sur le parcours….café et dessert sur terrasse \nPoints forts de cette sortie: \n– Vues sur la plaine et le Rhône\n– Incroyablement varié tant pour les chemins empruntés que pour les zones traversées \nInformations pratiques\nDurée: 2h30-3h de vélo \nNiveau technique: 1-2/5. Niveau physique 1-2/5 \nPrix: 75.- comprenant vtt électrique\, casque (au besoin) et accompagnement \n  \nJe m’inscris!\nÉquipement\n\nVeste imperméable et coupe-vent\nPull chaud\nBas de cycliste ou pantalon confortable\nChaussures de sport\nPetits gants\nLunettes de soleil et crème solaire\nPetit sac à dos avec petit encas et boisson et pique-nique \nCet événement vous intéresse… ajoutez-le dans votre agenda!\n(clic droit et ouvrir un nouvel onglet)
URL:https://veloeplaisir.ch/event/balade-dans-le-chablais-3-2/
LOCATION:Ollon\, Chemin de la monnaie\, Parc du terrain de Foot\, 1867\, Ollon
CATEGORIES:Plaisir de la nature
ATTACH;FMTTYPE=image/jpeg:https://veloeplaisir.ch/wp-content/uploads/2018/03/Rhone-1-pr-06.jpg
ORGANIZER;CN="Alexandre Perrin":MAILTO:info(at)veloeplaisir.ch
END:VEVENT
END:VCALENDAR