BEGIN:VCALENDAR
VERSION:2.0
PRODID:-//VeloEplaisir - ECPv6.15.20//NONSGML v1.0//EN
CALSCALE:GREGORIAN
METHOD:PUBLISH
X-ORIGINAL-URL:https://veloeplaisir.ch
X-WR-CALDESC:Évènements pour VeloEplaisir
REFRESH-INTERVAL;VALUE=DURATION:PT1H
X-Robots-Tag:noindex
X-PUBLISHED-TTL:PT1H
BEGIN:VTIMEZONE
TZID:Europe/Zurich
BEGIN:DAYLIGHT
TZOFFSETFROM:+0100
TZOFFSETTO:+0200
TZNAME:CEST
DTSTART:20180325T010000
END:DAYLIGHT
BEGIN:STANDARD
TZOFFSETFROM:+0200
TZOFFSETTO:+0100
TZNAME:CET
DTSTART:20181028T010000
END:STANDARD
BEGIN:DAYLIGHT
TZOFFSETFROM:+0100
TZOFFSETTO:+0200
TZNAME:CEST
DTSTART:20190331T010000
END:DAYLIGHT
BEGIN:STANDARD
TZOFFSETFROM:+0200
TZOFFSETTO:+0100
TZNAME:CET
DTSTART:20191027T010000
END:STANDARD
BEGIN:DAYLIGHT
TZOFFSETFROM:+0100
TZOFFSETTO:+0200
TZNAME:CEST
DTSTART:20200329T010000
END:DAYLIGHT
BEGIN:STANDARD
TZOFFSETFROM:+0200
TZOFFSETTO:+0100
TZNAME:CET
DTSTART:20201025T010000
END:STANDARD
END:VTIMEZONE
BEGIN:VEVENT
DTSTART;TZID=Europe/Zurich:20190811T083000
DTEND;TZID=Europe/Zurich:20190811T123000
DTSTAMP:20260421T190451
CREATED:20180312T151925Z
LAST-MODIFIED:20190722T082506Z
UID:2018-1565512200-1565526600@veloeplaisir.ch
SUMMARY:Balade d'Yvonand à Estavayer-le-Lac
DESCRIPTION:Balade d’Yvonand à Estavayer-le-Lac\n\nParcours\nAu départ de la plage d’Yvonand\, le tracé de cette jolie balade\, d’un niveau facile avec 2-3 passages plus exigeants\, se faufile entre champs et forêts. Dans un premier temps\, vous prendrez un peu de hauteur\, vous apprécierez la vue sur le lac et le Jura. Par la suite\, ce sera sur les Alpes et les préalpes. Vous n’aurez plus qu’à vous laisser glisser jusqu’au lac avant de revenir à travers les zones naturelles de Cheyres et d’Yvonand. \nPoints forts de cette sortie: \n– Accessible à tous\n– Revêtements très variés\n– Magnifiques vues\n– Ruines de la Tour St-Martin\n– Petit tour dans la vielle ville d’Estavayer\n– Grande cariçaie\n– Petit déjeuner sorti du sac en chemin \nInformations pratiques\nDurée: 3h00-3h30 \nNiveau technique: 1-2/5. Niveau physique 1-2/5 \nPrix: 75.- comprenant vtt électrique\, casque (au besoin) et accompagnement \nJe m’inscris!\nÉquipement\n\nVeste imperméable et coupe-vent\nPull chaud\nBas de cycliste ou pantalon confortable\nChaussures de sport\nPetits gants\nLunettes de soleil et crème solaire\nPetit sac à dos avec petit déjeuner et boisson \nCet événement vous intéresse… ajoutez-le dans votre agenda!\n(clic droit et ouvrir un nouvel onglet)
URL:https://veloeplaisir.ch/event/balade-matinale-dyvonand-a-estavayer-le-lac-2/
LOCATION:Yvonand\, Chemin de la plage\, refuge\, 1462\, Yvonand
CATEGORIES:Plaisir de la nature
ATTACH;FMTTYPE=image/jpeg:https://veloeplaisir.ch/wp-content/uploads/2018/03/véloEplaisir162110.jpg
ORGANIZER;CN="Alexandre Perrin":MAILTO:info(at)veloeplaisir.ch
END:VEVENT
END:VCALENDAR